Workbook

Sheet Database

Sheet Table S1
A1: Таблице S1. Статистические характеристики экспреиментальных данных по коэффициентам распределения элементов | M1: Интервалы условий и составов расплавов для каждого элемента
A2: между оливином и силикатным расплавом, Di=iOl/iMelt, мас. % | M2: C, г/т | P2: P, ГПа | R2: T, oC | T2: SiO2, мас % | V2: TiO2, мас % | X2: Al2O3, мас % | Z2: FeO(tot), мас % | AB2: MgO, мас % | AD2: CaO, мас % | AF2: Na2O, мас % | AH2: K2O, мас % | AJ2: H2O, мас % | AL2: CO2, мас % | AN2: Mg/(Mg+Fe) в оливине
A3: Элемент/отношение | B3: Среднее арифметическое | C3: Стандартное отклонение | D3: Min | E3: 1-й квартиль | F3: Медиана | G3: 3-й квартиль | H3: Max | I3: Число точек | M3: min | N3: max | P3: min | Q3: max | R3: min | S3: max | T3: min | U3: max | V3: min | W3: max | X3: min | Y3: max | Z3: min | AA3: max | AB3: min | AC3: max | AD3: min | AE3: max | AF3: min | AG3: max | AH3: min | AI3: max | AJ3: min | AK3: max | AL3: min | AM3: max | AN3: min | AO3: max
A4: Ti | B4: 0.03 | C4: 0.03 | D4: 0.001 | E4: 0.013 | F4: 0.023 | G4: 0.035 | H4: 0.2 | I4: 3126 | M4: 5.4 | N4: 203796 | P4: 0.0001 | Q4: 12 | R4: 750 | S4: 2150 | T4: 30 | U4: 75 | V4: 0 | W4: 34 | X4: 0 | Y4: 25 | Z4: 0 | AA4: 34 | AB4: 0 | AC4: 39 | AD4: 0 | AE4: 29 | AF4: 0 | AG4: 16 | AH4: 0 | AI4: 23 | AJ4: 0 | AK4: 40 | AL4: 0 | AM4: 25 | AN4: 0.02 | AO4: 1
A5: Al | B5: 0.01 | C5: 0.012 | D5: 0.0004 | E5: 0.004 | F5: 0.006 | G5: 0.011 | H5: 0.1 | I5: 4589 | M5: 106 | N5: 132311 | P5: 0.0001 | Q5: 12 | R5: 700 | S5: 2450 | T5: 30 | U5: 75 | V5: 0 | W5: 34 | X5: 0 | Y5: 25 | Z5: 0 | AA5: 45 | AB5: 0 | AC5: 41 | AD5: 0 | AE5: 32 | AF5: 0 | AG5: 28 | AH5: 0 | AI5: 23 | AJ5: 0 | AK5: 40 | AL5: 0 | AM5: 25 | AN5: 0 | AO5: 1
A6: Mn | B6: 1.5 | C6: 1.9 | D6: 0.01 | E6: 0.76 | F6: 1.1 | G6: 1.55 | H6: 27 | I6: 4536 | M6: 23 | N6: 61956 | P6: 0.0001 | Q6: 12 | R6: 750 | S6: 2450 | T6: 30 | U6: 75 | V6: 0 | W6: 34 | X6: 0 | Y6: 25 | Z6: 0 | AA6: 45 | AB6: 0 | AC6: 41 | AD6: 0 | AE6: 29 | AF6: 0 | AG6: 16 | AH6: 0 | AI6: 15 | AJ6: 0 | AK6: 40 | AL6: 0 | AM6: 25 | AN6: 0.02 | AO6: 1
A7: Ca | B7: 0.04 | C7: 0.05 | D7: 0.0009 | E7: 0.024 | F7: 0.031 | G7: 0.042 | H7: 0.8 | I7: 6423 | M7: 93 | N7: 293020 | P7: 0.0001 | Q7: 12 | R7: 730 | S7: 2450 | T7: 30 | U7: 75 | V7: 0 | W7: 34 | X7: 0 | Y7: 25 | Z7: 0 | AA7: 45 | AB7: 0 | AC7: 45 | AD7: 0 | AE7: 41 | AF7: 0 | AG7: 18 | AH7: 0 | AI7: 17 | AJ7: 0 | AK7: 40 | AL7: 0 | AM7: 25 | AN7: 0.02 | AO7: 1
A8: Na | B8: 0.02 | C8: 0.03 | D8: 0.00015 | E8: 0.004 | F8: 0.008 | G8: 0.017 | H8: 0.4 | I8: 1712 | M8: 74 | N8: 111278 | P8: 0.0001 | Q8: 12 | R8: 750 | S8: 2450 | T8: 30 | U8: 75 | V8: 0 | W8: 34 | X8: 0 | Y8: 25 | Z8: 0 | AA8: 45 | AB8: 0 | AC8: 41 | AD8: 0 | AE8: 29 | AF8: 0 | AG8: 15 | AH8: 0 | AI8: 17 | AJ8: 0 | AK8: 38 | AL8: 0 | AM8: 25 | AN8: 0.02 | AO8: 1
A9: K | B9: 0.05 | C9: 0.08 | D9: 4e-05 | E9: 0.006 | F9: 0.013 | G9: 0.046 | H9: 0.5 | I9: 946 | M9: 42 | N9: 190933 | P9: 0.0001 | Q9: 12 | R9: 750 | S9: 2000 | T9: 30 | U9: 75 | V9: 0 | W9: 34 | X9: 0 | Y9: 25 | Z9: 0 | AA9: 30 | AB9: 0 | AC9: 39 | AD9: 0 | AE9: 26 | AF9: 0 | AG9: 16 | AH9: 0 | AI9: 23 | AJ9: 0 | AK9: 33 | AL9: 0 | AM9: 25 | AN9: 0.02 | AO9: 1
A10: Cr | B10: 1.03 | C10: 1.1 | D10: 0.011 | E10: 0.55 | F10: 0.76 | G10: 1.11 | H10: 16 | I10: 2890 | M10: 1.7 | N10: 68419 | P10: 0.0001 | Q10: 12 | R10: 900 | S10: 2450 | T10: 30 | U10: 69 | V10: 0 | W10: 34 | X10: 0 | Y10: 22 | Z10: 0 | AA10: 45 | AB10: 0 | AC10: 41 | AD10: 0 | AE10: 50 | AF10: 0 | AG10: 13 | AH10: 0 | AI10: 14 | AJ10: 0 | AK10: 38 | AL10: 0 | AM10: 25 | AN10: 0.05 | AO10: 1
A11: P | B11: 0.18 | C11: 0.18 | D11: 0.007 | E11: 0.06 | F11: 0.12 | G11: 0.24 | H11: 0.9 | I11: 704 | M11: 44 | N11: 109103 | P11: 0.0001 | Q11: 12 | R11: 750 | S11: 2000 | T11: 30 | U11: 75 | V11: 0 | W11: 21 | X11: 0 | Y11: 25 | Z11: 0 | AA11: 32 | AB11: 0 | AC11: 39 | AD11: 0 | AE11: 28 | AF11: 0 | AG11: 14 | AH11: 0 | AI11: 14 | AJ11: 0 | AK11: 33 | AL11: 0 | AM11: 24 | AN11: 0.02 | AO11: 1
A12: F | B12: 0.0024 | C12: 0.0017 | D12: 0.0002 | E12: 0.0014 | F12: 0.0017 | G12: 0.0034 | H12: 0.007 | I12: 23 | M12: 150 | N12: 130000 | P12: 0.0001 | Q12: 8.9 | R12: 1025 | S12: 1500 | T12: 30 | U12: 51 | V12: 0 | W12: 2.2 | X12: 0.2 | Y12: 20 | Z12: 0 | AA12: 29 | AB12: 5 | AC12: 26 | AD12: 2.3 | AE12: 23 | AF12: 0 | AG12: 4.6 | AH12: 0.1 | AI12: 16 | AJ12: 0 | AK12: 6 | AL12: 0 | AM12: 1.7 | AN12: 0.68 | AO12: 1
A13: Cl | B13: 0.006 | C13: 0.006 | D13: 0.0002 | E13: 0.002 | F13: 0.004 | G13: 0.011 | H13: 0.019 | I13: 17 | M13: 2000 | N13: 22000 | P13: 0.3 | Q13: 2 | R13: 1200 | S13: 1500 | T13: 38 | U13: 58 | V13: 0 | W13: 0.8 | X13: 7.4 | Y13: 20 | Z13: 0 | AA13: 29 | AB13: 4.3 | AC13: 24 | AD13: 7 | AE13: 22 | AF13: 0 | AG13: 8 | AH13: 0 | AI13: 0.2 | AJ13: 0 | AK13: 2.6 | AL13: 0 | AM13: 0 | AN13: 0.58 | AO13: 1
A14: B | B14: 0.19 | C14: 0.27 | D14: 0.005 | E14: 0.018 | F14: 0.036 | G14: 0.29 | H14: 0.8 | I14: 19 | M14: 10.2 | N14: 1149 | P14: 0.5 | Q14: 9.7 | R14: 800 | S14: 2000 | T14: 44 | U14: 69 | V14: 0.1 | W14: 1.7 | X14: 3.8 | Y14: 17 | Z14: 0 | AA14: 12.6 | AB14: 0 | AC14: 36 | AD14: 0.2 | AE14: 12.7 | AF14: 0 | AG14: 5.6 | AH14: 0 | AI14: 6.5 | AJ14: 0 | AK14: 16 | AL14: 0 | AM14: 0 | AN14: 0.79 | AO14: 1
A15: Ba | B15: 0.0004 | C15: 0.0008 | D15: 2.3e-06 | E15: 1.4e-05 | F15: 7.5e-05 | G15: 0.00033 | H15: 0.0044 | I15: 30 | M15: 1.79 | N15: 7165 | P15: 0.0001 | Q15: 12 | R15: 800 | S15: 1900 | T15: 30 | U15: 69 | V15: 0.07 | W15: 19 | X15: 1 | Y15: 20 | Z15: 0 | AA15: 9.4 | AB15: 0 | AC15: 32 | AD15: 0.2 | AE15: 21 | AF15: 0 | AG15: 4.2 | AH15: 0 | AI15: 16.3 | AJ15: 0 | AK15: 16 | AL15: 0 | AM15: 7.6 | AN15: 0.9 | AO15: 1
... A57: Zr | B57: 0.00077 | C57: 0.00049 | D57: 0.0001 | E57: 0.0004 | F57: 0.00065 | G57: 0.00094 | H57: 0.0029 | I57: 242 | M57: 11 | N57: 37015 | P57: 0.0001 | Q57: 12 | R57: 800 | S57: 2150 | T57: 34 | U57: 69 | V57: 0 | W57: 23 | X57: 0 | Y57: 22 | Z57: 0 | AA57: 40 | AB57: 0.4 | AC57: 38 | AD57: 0 | AE57: 26 | AF57: 0 | AG57: 13.5 | AH57: 0 | AI57: 8.5 | AJ57: 0 | AK57: 16 | AL57: 0 | AM57: 6.2 | AN57: 0.6 | AO57: 1
A58: Ti/Mn | B58: 0.0238 | C58: 0.017 | D58: 0.0003 | E58: 0.012 | F58: 0.018 | G58: 0.028 | H58: 0.1 | I58: 2483
A59: Ti/Ca | B59: 0.95 | C59: 1 | D59: 0.1 | E59: 0.43 | F59: 0.68 | G59: 1.1 | H59: 9.4 | I59: 3163
A60: Ti/Lu | B60: 1 | C60: 1 | D60: 0.1 | E60: 0.29 | F60: 0.61 | G60: 1.16 | H60: 4.1 | I60: 27
A61: Al/B | B61: 0.73 | C61: 0.23 | D61: 0.39 | E61: 0.54 | F61: 0.74 | G61: 0.88 | H61: 1.05 | I61: 10
A62: Al/Be | B62: 2.1 | C62: 1.3 | D62: 1.24 | E62: 1.48 | F62: 1.73 | G62: 2.14 | H62: 7.4 | I62: 23
A63: Mn/Co | B63: 0.39 | C63: 0.07 | D63: 0.25 | E63: 0.35 | F63: 0.39 | G63: 0.44 | H63: 0.59 | I63: 340
A64: Ca/In | B64: 0.32 | C64: 0.05 | D64: 0.25 | E64: 0.28 | F64: 0.31 | G64: 0.35 | H64: 0.41 | I64: 18
A65: Ca/Zn | B65: 0.024 | C65: 0.01 | D65: 0.0065 | E65: 0.016 | F65: 0.023 | G65: 0.028 | H65: 0.068 | I65: 88
A66: Na/Li | B66: 0.078 | C66: 0.09 | D66: 0.01 | E66: 0.019 | F66: 0.027 | G66: 0.12 | H66: 0.34 | I66: 37
A67: Na/Sr | B67: 5.4 | C67: 2.6 | D67: 2.6 | E67: 3.5 | F67: 5.6 | G67: 6.5 | H67: 10.9 | I67: 9
A68: Cr/Sc | B68: 4.4 | C68: 1.5 | D68: 1.2 | E68: 3.3 | F68: 4.2 | G68: 5.2 | H68: 9.6 | I68: 273
A69: Ba/Ce | B69: 1 | C69: 0.6 | D69: 0.32 | E69: 0.56 | F69: 0.9 | G69: 1.5 | H69: 2 | I69: 11
... A170: Y/Zr | B170: 12.3 | C170: 6.8 | D170: 2.1 | E170: 8.4 | F170: 10.6 | G170: 14.1 | H170: 54 | I170: 200
A171: Источники данных
A172: Номер в базе данных
A173: 3 | B173: Kohn S.C., Schofield P.F. The importance of melt composition in controlling trace-element behaviour: an experimental study of Mn and Zn partitioning between forsterite and silicate melts Chem. Geol., 1994, vol. 117, pp. 73-87
A174: 4 | B174: Shi P. Low-pressure phase relationships in the system Na2O-CaO-FeO-MgO- Al2O3-SiO2 at 1100 C, with implications for the differentiation of basaltic magmas J. Petrol., 1993, vol. 34, pt. 4, pp. 743-762
A175: 6 | B175: Beattie P. The generation of uranium series disequilibria by partial melting of spinel peridotite: constraints from partitioning studies. Earth Planet. Sci. Lett., 1993, vol. 117, pp. 379-391
A176: 7 | B176: Beattie P. Systematics and energetics of trace-element partitioning between olivine and silicate melts: Implications for the nature of mineral/melt partitioning Chem. Geol., 1994, vol. 117, pp. 57-71
A177: 10 | B177: Dunn T., Sen C. Mineral/matrix partition coefficients for orthopyroxene, plagioclase and olivine in basaltic to andesitic systems: A combined analytical and experimental study Geochim. Cosmochim. Acta, 1994, vol. 58, no. 2, pp. 717-733
A178: 12 | B178: Sack R.O., Ghiorso M.S. Thermodynamics of multicomponent pyroxenes: III. Calibration of Fe2+(Mg)-1, TiAl2(MgSi2)-1, TiFe3+2(MgSi2)-1, AlFe3+(MgSi)-1, NaAl(CaMg)-1, Al2(MgSi)-1 and Ca(Mg)-1 exchange reactions between pyroxenes and silicate melts Contrib. Mineral. Petrol., 1994, vol. 118, pp. 271-296
A179: 13 | B179: Vander Auwera J., Longhi J. Experimental study of a jotunite (hypersthene monzodiorite): constraints on the parent magma composition and crystallization conditions (P, T, fO2) of the Bjerkreim-Sokndal layered intrusion (Norway) Contrib. Mineral. Petrol., 1994, vol. 118, pp. 60-78.
A180: 14 | B180: Chen H.-K. and Lindsley D.H. Apollo 14 very low titanium glasses: Melting experiments in iron-platinum alloy capsules Proc. XIV Lunar Planet. Sci. Conf. Pt.1. J. Geophys. Res.,1983,vol.88,Suppl.,pp.B335-B342
A181: 19 | B181: Thompson R.N. Primary basalts and magma genesis II. Snake River Plain, Idaho, U.S.A. Contrib. Mineral. Petrol., 1975, vol. 52, pp. 213-232
...

Sheet Table S2
A1: Таблица S2. Коэффициенты распределения редких элементов между оливином и базальтовым расплавом (MORB, табл. 1) и их зависимость от условий и состава фаз
F2: Влияние P, T и параметров состава на ln(D)
A3: Элемент | B3: n | C3: MORB | D3: +1s | E3: -1s | F3: 1000/T | G3: P/T | H3: XSi | I3: XTi | J3: XAl | K3: XFetot | L3: XMg | M3: XCa | N3: XNa | O3: XK | P3: XP | Q3: Mg# of Ol | R3: XSi2 | S3: XAl2 | T3: XMg2 | U3: XCa2 | V3: XNa2 | W3: Ol Mg#2
A4: La | B4: 22 | C4: 7.3e-06 | D4: 4.4e-05 | E4: 6.2e-06
A5: U | B5: 24 | C5: 9.7e-06 | D5: 7e-06 | E5: 4e-06 | P5: -211.3
A6: Th | B6: 28 | C6: 1.5e-05 | D6: 1.4e-05 | E6: 7e-06 | M6: -18.5
A7: Ce | B7: 13 | C7: 1.6e-05 | D7: 0.00014 | E7: 1.4e-05
A8: Re | B8: 7 | C8: 2.4e-05 | D8: 0.00024 | E8: 2.2e-05
A9: Ba | B9: 30 | C9: 4.6e-05 | D9: 0.00019 | E9: 3.7e-05 | M9: -15.25
A10: Pr | B10: 20 | C10: 4.8e-05 | D10: 1.1e-05 | E10: 8.8e-06 | M10: -7.0015383 | N10: 10.08
A11: W | B11: 21 | C11: 7e-05 | D11: 8.9e-05 | E11: 4e-05
A12: Nd | B12: 27 | C12: 7.3e-05 | D12: 1.8e-05 | E12: 1.4e-05 | M12: -3.98
A13: Sm | B13: 36 | C13: 0.0003 | D13: 4.7e-05 | E13: 4.1e-05 | H13: 8.06 | V13: 215.8
A14: Ta | B14: 35 | C14: 0.0005 | D14: 0.00059 | E14: 0.00027 | K14: 25.1
A15: Zr | B15: 230 | C15: 0.00067 | D15: 0.00028 | E15: 0.0002 | I15: -6.4 | J15: 3.8 | U15: -15.5
A16: Eu | B16: 44 | C16: 0.00069 | D16: 0.00025 | E16: 0.00018 | I16: -17.45 | M16: -5.23
A17: Hf | B17: 96 | C17: 0.00075 | D17: 0.00019 | E17: 0.00015 | H17: -4.37 | I17: -9.14 | U17: -23.1
A18: Sr | B18: 37 | C18: 0.00081 | D18: 0.0029 | E18: 0.0006 | G18: 0.076
A19: Gd | B19: 45 | C19: 0.00085 | D19: 0.0003 | E19: 0.0002 | M19: -6.5
A20: Nb | B20: 62 | C20: 0.001 | D20: 0.0008 | E20: 0.0005 | K20: 20.25 | S20: 21.8
A21: Pb | B21: 10 | C21: 0.0011 | D21: 0.0016 | E21: 0.0007
A22: Cs | B22: 9 | C22: 0.0014 | D22: 0.016 | E22: 0.0013
A23: Tb | B23: 121 | C23: 0.0016 | D23: 0.0007 | E23: 0.0005 | H23: -5.8 | I23: -22.4 | M23: -6 | N23: 4.1
A24: S | B24: 5 | C24: 0.0022 | D24: 0.007 | E24: 0.0017
A25: F | B25: 23 | C25: 0.0024 | D25: 0.002 | E25: 0.001 | M25: -17.17
A26: Be | B26: 24 | C26: 0.0026 | D26: 0.0006 | E26: 0.0005 | H26: -4.76 | M26: -1.92
A27: Dy | B27: 33 | C27: 0.0033 | D27: 0.0006 | E27: 0.0005 | M27: -8.72 | N27: 11.8
A28: Rb | B28: 8 | C28: 0.0037 | D28: 0.0028 | E28: 0.0016
A29: Al | B29: 4540 | C29: 0.0047 | D29: 0.005 | E29: 0.0024 | F29: -7.5 | H29: -12.56 | L29: -3.98 | Q29: -0.93 | R29: 11.5 | T29: 8.13
A30: Cl | B30: 18 | C30: 0.0048 | D30: 0.019 | E30: 0.0038
A31: Y | B31: 257 | C31: 0.0049 | D31: 0.0027 | E31: 0.0017 | H31: -6.29 | I31: -9.88 | M31: -3.56
A32: Ho | B32: 40 | C32: 0.005 | D32: 0.0009 | E32: 0.0008 | M32: -7.32 | N32: 13.74
A33: Mo | B33: 15 | C33: 0.0062 | D33: 0.004 | E33: 0.0025
A34: Er | B34: 123 | C34: 0.0065 | D34: 0.0026 | E34: 0.0019 | I34: -51.95 | M34: -4.87 | N34: 7.53
A35: Na | B35: 1652 | C35: 0.0066 | D35: 0.0063 | E35: 0.0032 | H35: -5.12 | M35: -19.2 | N35: -17.5 | Q35: -0.89 | U35: 56.7
A36: B | B36: 13 | C36: 0.0076 | D36: 0.012 | E36: 0.0047
A37: Pd | B37: 9 | C37: 0.01 | D37: 0.0044 | E37: 0.0031 | Q37: 17.99
A38: Tm | B38: 40 | C38: 0.011 | D38: 0.0024 | E38: 0.002 | M38: -8.78 | N38: 11.64
A39: Yb | B39: 170 | C39: 0.016 | D39: 0.0062 | E39: 0.0045 | G39: -0.032 | I39: -15.96 | M39: -6.21 | N39: 6.04
A40: Ti | B40: 3081 | C40: 0.018 | D40: 0.016 | E40: 0.008 | I40: -3.7 | L40: -6.92 | T40: 16.05 | W40: -1.21
...

Sheet Table S3
A1: Табл. S3. Расчет коэффициентов распределения для заданных P-T условий и состава расплава
A2: Условия
A3: T, oC | B3: 1300
A4: P, bar | B4: 10000
A5: Состав расплава, мас %
A6: SiO2 | B6: 50
A7: TiO2 | B7: 2
A8: Al2O3 | B8: 15
A9: FeO (tot) | B9: 10
A10: MgO | B10: 12
A11: CaO | B11: 12
A12: Na2O | B12: 2
A13: K2O | B13: 2
A14: P2O5 | B14: 0.2
A15: Mg# Ol | B15: 0.9
A16: Изменения могут вноситься только в выделенные ячейки. Изменения в табл. S2 могут привесит к искажению результатов. Рассчитанные значения приведены ниже.
A18: Элемент | B18: Корректировочный множитель | D18: Рассчитанное значение D
A19: La | B19: {=EXP(SUM('Table S3'!$A$90:$R$90*'[1]Table S2'!F4:W4))} -> 1 | D19: =B19*'[1]Table S2'!C4 -> 7.3e-06
A20: U | B20: {=EXP(SUM('Table S3'!$A$90:$R$90*'[1]Table S2'!F5:W5))} -> 0.90475045 | D20: =B20*'[1]Table S2'!C5 -> 8.7760793e-06
A21: Th | B21: {=EXP(SUM('Table S3'!$A$90:$R$90*'[1]Table S2'!F6:W6))} -> 1.1614295 | D21: =B21*'[1]Table S2'!C6 -> 1.7421442e-05
A22: Ce | B22: {=EXP(SUM('Table S3'!$A$90:$R$90*'[1]Table S2'!F7:W7))} -> 1 | D22: =B22*'[1]Table S2'!C7 -> 1.6e-05
A23: Re | B23: {=EXP(SUM('Table S3'!$A$90:$R$90*'[1]Table S2'!F8:W8))} -> 1 | D23: =B23*'[1]Table S2'!C8 -> 2.4e-05
A24: Ba | B24: {=EXP(SUM('Table S3'!$A$90:$R$90*'[1]Table S2'!F9:W9))} -> 1.1312932 | D24: =B24*'[1]Table S2'!C9 -> 5.2039488e-05
A25: Pr | B25: {=EXP(SUM('Table S3'!$A$90:$R$90*'[1]Table S2'!F10:W10))} -> 0.89839195 | D25: =B25*'[1]Table S2'!C10 -> 4.3122814e-05
A26: W | B26: {=EXP(SUM('Table S3'!$A$90:$R$90*'[1]Table S2'!F11:W11))} -> 1 | D26: =B26*'[1]Table S2'!C11 -> 7e-05
A27: Nd | B27: {=EXP(SUM('Table S3'!$A$90:$R$90*'[1]Table S2'!F12:W12))} -> 1.0327192 | D27: =B27*'[1]Table S2'!C12 -> 7.53885e-05
A28: Sm | B28: {=EXP(SUM('Table S3'!$A$90:$R$90*'[1]Table S2'!F13:W13))} -> 0.61042284 | D28: =B28*'[1]Table S2'!C13 -> 0.00018312685
A29: Ta | B29: {=EXP(SUM('Table S3'!$A$90:$R$90*'[1]Table S2'!F14:W14))} -> 0.83446879 | D29: =B29*'[1]Table S2'!C14 -> 0.00041723439
A30: Zr | B30: {=EXP(SUM('Table S3'!$A$90:$R$90*'[1]Table S2'!F15:W15))} -> 0.9493159 | D30: =B30*'[1]Table S2'!C15 -> 0.00063604165
... A72: Ni | B72: {=EXP(SUM('Table S3'!$A$90:$R$90*'[1]Table S2'!F57:W57))} -> 0.69209002 | D72: =B72*'[1]Table S2'!C57 -> 7.1285272
A75: Mol wt | C75: Xi, atomic
A76: 60.0855 | B76: =B6/A76 -> 0.83214752 | C76: =B76/$B$86 -> 0.43519441
A77: 79.88 | B77: =B7/A77 -> 0.025037556 | C77: =B77/$B$86 -> 0.013094078
A78: 50.982 | B78: =B8/A78 -> 0.29422149 | C78: =B78/$B$86 -> 0.15387121
A79: 71.847 | B79: =B9/A79 -> 0.13918466 | C79: =B79/$B$86 -> 0.072790441
A80: 40.305 | B80: =B10/A80 -> 0.29772981 | C80: =B80/$B$86 -> 0.15570599
A81: 56.078 | B81: =B11/A81 -> 0.21398766 | C81: =B81/$B$86 -> 0.11191073
A82: 30.99 | B82: =B12/A82 -> 0.064536947 | C82: =B82/$B$86 -> 0.03375137
A83: 47.098 | B83: =B13/A83 -> 0.042464648 | C83: =B83/$B$86 -> 0.022208055
A84: 70.974 | B84: =B14/A84 -> 0.0028179333 | C84: =B84/$B$86 -> 0.0014737157
...

Sheet Лист3
